Package: frma Version: 1.58.0 Command: /Library/Frameworks/R.framework/Resources/bin/R CMD build --keep-empty-dirs --no-resave-data frma StartedAt: 2025-02-03 19:01:52 -0500 (Mon, 03 Feb 2025) EndedAt: 2025-02-03 19:04:01 -0500 (Mon, 03 Feb 2025) EllapsedTime: 129.8 seconds RetCode: 0 Status: OK PackageFile: frma_1.58.0.tar.gz PackageFileSize: 288.3 KiB