Package: frma Version: 1.58.0 Command: /Library/Frameworks/R.framework/Resources/bin/R CMD INSTALL frma StartedAt: 2025-02-03 15:34:45 -0500 (Mon, 03 Feb 2025) EndedAt: 2025-02-03 15:35:48 -0500 (Mon, 03 Feb 2025) EllapsedTime: 63.1 seconds RetCode: 0 Status: OK