Package: frma Version: 1.58.0 Command: /home/biocbuild/R/R/bin/R CMD build --keep-empty-dirs --no-resave-data frma StartedAt: 2025-02-03 23:42:04 -0000 (Mon, 03 Feb 2025) EndedAt: 2025-02-03 23:43:16 -0000 (Mon, 03 Feb 2025) EllapsedTime: 72.0 seconds RetCode: 0 Status: OK PackageFile: frma_1.58.0.tar.gz PackageFileSize: 279.1 KiB