Package: frma Version: 1.58.0 Command: /home/biocbuild/R/R/bin/R CMD check --install=check:frma.install-out.txt --library=/home/biocbuild/R/R/site-library --no-vignettes --timings frma_1.58.0.tar.gz StartedAt: 2025-02-04 07:06:56 -0000 (Tue, 04 Feb 2025) EndedAt: 2025-02-04 07:12:00 -0000 (Tue, 04 Feb 2025) EllapsedTime: 304.3 seconds RetCode: 0 Status: OK CheckDir: frma.Rcheck Warnings: 0