Package: frma Version: 1.58.0 Command: /home/biocbuild/R/R/bin/R CMD INSTALL frma StartedAt: 2025-02-03 20:36:30 -0000 (Mon, 03 Feb 2025) EndedAt: 2025-02-03 20:37:05 -0000 (Mon, 03 Feb 2025) EllapsedTime: 34.9 seconds RetCode: 0 Status: OK