Package: frmaTools Version: 1.58.0 Command: /Library/Frameworks/R.framework/Resources/bin/R CMD INSTALL frmaTools StartedAt: 2025-02-03 15:15:22 -0500 (Mon, 03 Feb 2025) EndedAt: 2025-02-03 15:15:27 -0500 (Mon, 03 Feb 2025) EllapsedTime: 4.9 seconds RetCode: 0 Status: OK