Package: frmaTools Version: 1.58.0 Command: chmod a+r frmaTools -R && F:\biocbuild\bbs-3.20-bioc\R\bin\R.exe CMD build --keep-empty-dirs --no-resave-data frmaTools StartedAt: 2025-01-30 19:01:24 -0500 (Thu, 30 Jan 2025) EndedAt: 2025-01-30 19:01:49 -0500 (Thu, 30 Jan 2025) EllapsedTime: 24.6 seconds RetCode: 0 Status: OK PackageFile: frmaTools_1.58.0.tar.gz PackageFileSize: 75.15 KiB