Package: frmaTools Version: 1.58.0 Command: F:\biocbuild\bbs-3.20-bioc\R\bin\R.exe CMD check --no-multiarch --install=check:frmaTools.install-out.txt --library=F:\biocbuild\bbs-3.20-bioc\R\library --no-vignettes --timings frmaTools_1.58.0.tar.gz StartedAt: 2025-01-31 02:09:20 -0500 (Fri, 31 Jan 2025) EndedAt: 2025-01-31 02:10:08 -0500 (Fri, 31 Jan 2025) EllapsedTime: 48.0 seconds RetCode: 0 Status: OK CheckDir: frmaTools.Rcheck Warnings: 0