Package: frmaTools Version: 1.58.0 Command: /home/biocbuild/R/R/bin/R CMD INSTALL frmaTools StartedAt: 2025-01-30 20:09:04 -0000 (Thu, 30 Jan 2025) EndedAt: 2025-01-30 20:09:35 -0000 (Thu, 30 Jan 2025) EllapsedTime: 31.2 seconds RetCode: 0 Status: OK