Package: funOmics Version: 1.0.0 Command: rm -rf funOmics.buildbin-libdir && mkdir funOmics.buildbin-libdir && /Users/biocbuild/BBS/utils/build-universal.sh funOmics_1.0.0.tar.gz /Library/Frameworks/R.framework/Resources/bin/R funOmics.buildbin-libdir StartedAt: 2025-02-04 12:58:23 -0500 (Tue, 04 Feb 2025) EndedAt: 2025-02-04 12:59:02 -0500 (Tue, 04 Feb 2025) EllapsedTime: 38.4 seconds RetCode: 0 Status: OK PackageFile: funOmics_1.0.0.tgz PackageFileSize: 70.23 KiB