Package: funOmics Version: 1.0.0 Command: /Library/Frameworks/R.framework/Resources/bin/R CMD build --keep-empty-dirs --no-resave-data funOmics StartedAt: 2025-02-03 19:02:01 -0500 (Mon, 03 Feb 2025) EndedAt: 2025-02-03 19:10:25 -0500 (Mon, 03 Feb 2025) EllapsedTime: 503.5 seconds RetCode: 0 Status: OK PackageFile: funOmics_1.0.0.tar.gz PackageFileSize: 52.32 KiB