Package: funOmics Version: 1.0.0 Command: /Library/Frameworks/R.framework/Resources/bin/R CMD check --install=check:funOmics.install-out.txt --library=/Library/Frameworks/R.framework/Resources/library --no-vignettes --timings funOmics_1.0.0.tar.gz StartedAt: 2025-02-04 03:53:48 -0500 (Tue, 04 Feb 2025) EndedAt: 2025-02-04 04:00:03 -0500 (Tue, 04 Feb 2025) EllapsedTime: 375.1 seconds RetCode: 0 Status: OK CheckDir: funOmics.Rcheck Warnings: 0