Package: funOmics Version: 1.0.0 Command: /home/biocbuild/bbs-3.20-bioc/R/bin/R CMD build --keep-empty-dirs --no-resave-data --md5 funOmics StartedAt: 2025-02-03 17:28:38 -0500 (Mon, 03 Feb 2025) EndedAt: 2025-02-03 17:34:23 -0500 (Mon, 03 Feb 2025) EllapsedTime: 344.5 seconds RetCode: 0 Status: OK PackageFile: funOmics_1.0.0.tar.gz PackageFileSize: 52.84 KiB