Package: funOmics Version: 1.0.0 Command: /home/biocbuild/R/R/bin/R CMD check --install=check:funOmics.install-out.txt --library=/home/biocbuild/R/R/site-library --no-vignettes --timings funOmics_1.0.0.tar.gz StartedAt: 2025-02-04 07:07:04 -0000 (Tue, 04 Feb 2025) EndedAt: 2025-02-04 07:10:53 -0000 (Tue, 04 Feb 2025) EllapsedTime: 229.2 seconds RetCode: 0 Status: OK CheckDir: funOmics.Rcheck Warnings: 0