Package: funOmics
Version: 1.0.0
Command: /home/biocbuild/bbs-3.20-bioc/R/bin/R CMD build --keep-empty-dirs --no-resave-data funOmics
StartedAt: 2024-11-19 18:59:59 -0500 (Tue, 19 Nov 2024)
EndedAt: 2024-11-19 19:07:49 -0500 (Tue, 19 Nov 2024)
EllapsedTime: 469.5 seconds
RetCode: 0
Status: OK
PackageFile: funOmics_1.0.0.tar.gz
PackageFileSize: 52.41 <A href="http://en.wikipedia.org/wiki/KiB" target="_blank">KiB</A>