Package: funtooNorm Version: 1.30.0 Command: /home/biocbuild/bbs-3.20-bioc/R/bin/R CMD check --install=check:funtooNorm.install-out.txt --library=/home/biocbuild/bbs-3.20-bioc/R/site-library --timings funtooNorm_1.30.0.tar.gz StartedAt: 2025-02-03 22:29:12 -0500 (Mon, 03 Feb 2025) EndedAt: 2025-02-03 22:35:52 -0500 (Mon, 03 Feb 2025) EllapsedTime: 400.4 seconds RetCode: 0 Status: WARNINGS CheckDir: funtooNorm.Rcheck Warnings: 2