Package: funtooNorm
Version: 1.29.0
Command: C:\Users\biocbuild\bbs-3.20-bioc\R\bin\R.exe CMD INSTALL funtooNorm
StartedAt: 2024-07-15 16:13:46 -0400 (Mon, 15 Jul 2024)
EndedAt: 2024-07-15 16:14:36 -0400 (Mon, 15 Jul 2024)
EllapsedTime: 49.8 seconds
RetCode: 0
Status: OK