Package: funtooNorm Version: 1.30.0 Command: chmod a+r funtooNorm -R && F:\biocbuild\bbs-3.20-bioc\R\bin\R.exe CMD build --keep-empty-dirs --no-resave-data funtooNorm StartedAt: 2025-01-30 19:01:50 -0500 (Thu, 30 Jan 2025) EndedAt: 2025-01-30 19:01:53 -0500 (Thu, 30 Jan 2025) EllapsedTime: 3.0 seconds RetCode: 0 Status: OK PackageFile: funtooNorm_1.30.0.tar.gz PackageFileSize: 2.458 MiB