Package: funtooNorm Version: 1.30.0 Command: F:\biocbuild\bbs-3.20-bioc\R\bin\R.exe CMD check --no-multiarch --install=check:funtooNorm.install-out.txt --library=F:\biocbuild\bbs-3.20-bioc\R\library --no-vignettes --timings funtooNorm_1.30.0.tar.gz StartedAt: 2025-01-31 02:09:31 -0500 (Fri, 31 Jan 2025) EndedAt: 2025-01-31 02:17:49 -0500 (Fri, 31 Jan 2025) EllapsedTime: 498.0 seconds RetCode: 0 Status: WARNINGS CheckDir: funtooNorm.Rcheck Warnings: 2