Package: funtooNorm Version: 1.30.0 Command: F:\biocbuild\bbs-3.20-bioc\R\bin\R.exe CMD INSTALL funtooNorm StartedAt: 2025-01-30 16:51:05 -0500 (Thu, 30 Jan 2025) EndedAt: 2025-01-30 16:52:08 -0500 (Thu, 30 Jan 2025) EllapsedTime: 62.3 seconds RetCode: 0 Status: OK