Package: gCrisprTools Version: 2.12.0 Command: /Library/Frameworks/R.framework/Resources/bin/R CMD build --keep-empty-dirs --no-resave-data gCrisprTools StartedAt: 2025-02-03 23:57:44 -0500 (Mon, 03 Feb 2025) EndedAt: 2025-02-04 00:02:07 -0500 (Tue, 04 Feb 2025) EllapsedTime: 263.4 seconds RetCode: 0 Status: OK PackageFile: gCrisprTools_2.12.0.tar.gz PackageFileSize: 4.708 MiB