Package: gCrisprTools Version: 2.12.0 Command: /Library/Frameworks/R.framework/Resources/bin/R CMD check --install=check:gCrisprTools.install-out.txt --library=/Library/Frameworks/R.framework/Resources/library --no-vignettes --timings gCrisprTools_2.12.0.tar.gz StartedAt: 2025-02-04 20:21:00 -0500 (Tue, 04 Feb 2025) EndedAt: 2025-02-04 20:27:34 -0500 (Tue, 04 Feb 2025) EllapsedTime: 393.4 seconds RetCode: 0 Status: OK CheckDir: gCrisprTools.Rcheck Warnings: 0