Package: gCrisprTools Version: 2.12.0 Command: rm -rf gCrisprTools.buildbin-libdir && mkdir gCrisprTools.buildbin-libdir && /Users/biocbuild/BBS/utils/build-universal.sh gCrisprTools_2.12.0.tar.gz /Library/Frameworks/R.framework/Resources/bin/R gCrisprTools.buildbin-libdir StartedAt: 2024-11-20 04:27:43 -0500 (Wed, 20 Nov 2024) EndedAt: 2024-11-20 04:28:25 -0500 (Wed, 20 Nov 2024) EllapsedTime: 41.5 seconds RetCode: 0 Status: OK PackageFile: gCrisprTools_2.12.0.tgz PackageFileSize: 4.952 MiB