Package: gCrisprTools Version: 2.12.0 Command: rm -rf gCrisprTools.buildbin-libdir && mkdir gCrisprTools.buildbin-libdir && F:\biocbuild\bbs-3.20-bioc\R\bin\R.exe CMD INSTALL --build --library=gCrisprTools.buildbin-libdir gCrisprTools_2.12.0.tar.gz StartedAt: 2025-02-04 08:32:10 -0500 (Tue, 04 Feb 2025) EndedAt: 2025-02-04 08:33:57 -0500 (Tue, 04 Feb 2025) EllapsedTime: 107.2 seconds RetCode: 0 Status: OK PackageFile: gCrisprTools_2.12.0.zip PackageFileSize: 3.325 MiB