Package: gCrisprTools Version: 2.12.0 Command: chmod a+r gCrisprTools -R && F:\biocbuild\bbs-3.20-bioc\R\bin\R.exe CMD build --keep-empty-dirs --no-resave-data gCrisprTools StartedAt: 2025-02-03 19:18:36 -0500 (Mon, 03 Feb 2025) EndedAt: 2025-02-03 19:24:19 -0500 (Mon, 03 Feb 2025) EllapsedTime: 343.1 seconds RetCode: 0 Status: OK PackageFile: gCrisprTools_2.12.0.tar.gz PackageFileSize: 3.061 MiB