Package: gCrisprTools Version: 2.12.0 Command: /home/biocbuild/R/R/bin/R CMD build --keep-empty-dirs --no-resave-data gCrisprTools StartedAt: 2025-02-03 23:43:50 -0000 (Mon, 03 Feb 2025) EndedAt: 2025-02-03 23:48:56 -0000 (Mon, 03 Feb 2025) EllapsedTime: 306.1 seconds RetCode: 0 Status: OK PackageFile: gCrisprTools_2.12.0.tar.gz PackageFileSize: 3.298 MiB