Package: gCrisprTools Version: 2.12.0 Command: /home/biocbuild/R/R/bin/R CMD INSTALL gCrisprTools StartedAt: 2025-02-03 20:53:39 -0000 (Mon, 03 Feb 2025) EndedAt: 2025-02-03 20:54:13 -0000 (Mon, 03 Feb 2025) EllapsedTime: 33.3 seconds RetCode: 0 Status: OK