Package: gDNAx Version: 1.4.1 Command: rm -rf gDNAx.buildbin-libdir && mkdir gDNAx.buildbin-libdir && /Users/biocbuild/BBS/utils/build-universal.sh gDNAx_1.4.1.tar.gz /Library/Frameworks/R.framework/Resources/bin/R gDNAx.buildbin-libdir StartedAt: 2025-02-05 15:56:07 -0500 (Wed, 05 Feb 2025) EndedAt: 2025-02-05 15:57:05 -0500 (Wed, 05 Feb 2025) EllapsedTime: 57.9 seconds RetCode: 0 Status: OK PackageFile: gDNAx_1.4.1.tgz PackageFileSize: 1.098 MiB