Package: gDNAx Version: 1.4.1 Command: /Library/Frameworks/R.framework/Resources/bin/R CMD INSTALL gDNAx StartedAt: 2025-02-03 15:49:00 -0500 (Mon, 03 Feb 2025) EndedAt: 2025-02-03 15:50:32 -0500 (Mon, 03 Feb 2025) EllapsedTime: 92.0 seconds RetCode: 0 Status: OK