Package: gDNAx Version: 1.4.1 Command: /home/biocbuild/bbs-3.20-bioc/R/bin/R CMD check --install=check:gDNAx.install-out.txt --library=/home/biocbuild/bbs-3.20-bioc/R/site-library --timings gDNAx_1.4.1.tar.gz StartedAt: 2025-02-17 22:16:02 -0500 (Mon, 17 Feb 2025) EndedAt: 2025-02-17 22:31:14 -0500 (Mon, 17 Feb 2025) EllapsedTime: 911.9 seconds RetCode: 0 Status: OK CheckDir: gDNAx.Rcheck Warnings: 0