Package: gDNAx Version: 1.4.1 Command: /home/biocbuild/bbs-3.20-bioc/R/bin/R CMD INSTALL gDNAx StartedAt: 2025-02-17 15:30:15 -0500 (Mon, 17 Feb 2025) EndedAt: 2025-02-17 15:30:59 -0500 (Mon, 17 Feb 2025) EllapsedTime: 43.2 seconds RetCode: 0 Status: OK