Package: gDR Version: 1.4.1 Command: rm -rf gDR.buildbin-libdir && mkdir gDR.buildbin-libdir && /Users/biocbuild/BBS/utils/build-universal.sh gDR_1.4.1.tar.gz /Library/Frameworks/R.framework/Resources/bin/R gDR.buildbin-libdir StartedAt: 2025-02-18 12:11:37 -0500 (Tue, 18 Feb 2025) EndedAt: 2025-02-18 12:12:28 -0500 (Tue, 18 Feb 2025) EllapsedTime: 51.5 seconds RetCode: 0 Status: OK PackageFile: gDR_1.4.1.tgz PackageFileSize: 278.5 <A href="http://en.wikipedia.org/wiki/KiB" target="_blank">KiB</A>