Package: gDR Version: 1.4.0 Command: /home/biocbuild/R/R/bin/R CMD check --install=check:gDR.install-out.txt --library=/home/biocbuild/R/R/site-library --no-vignettes --timings gDR_1.4.0.tar.gz StartedAt: 2025-02-04 07:10:24 -0000 (Tue, 04 Feb 2025) EndedAt: 2025-02-04 07:13:44 -0000 (Tue, 04 Feb 2025) EllapsedTime: 200.1 seconds RetCode: 0 Status: OK CheckDir: gDR.Rcheck Warnings: 0