Package: gDR
Version: 1.4.0
Command: /home/biocbuild/bbs-3.20-bioc/R/bin/R CMD build --keep-empty-dirs --no-resave-data gDR
StartedAt: 2024-11-19 19:02:03 -0500 (Tue, 19 Nov 2024)
EndedAt: 2024-11-19 19:02:53 -0500 (Tue, 19 Nov 2024)
EllapsedTime: 49.4 seconds
RetCode: 0
Status: OK
PackageFile: gDR_1.4.0.tar.gz
PackageFileSize: 276.7 <A href="http://en.wikipedia.org/wiki/KiB" target="_blank">KiB</A>