Package: gDRcore Version: 1.3.2 Command: rm -rf gDRcore.buildbin-libdir && mkdir gDRcore.buildbin-libdir && F:\biocbuild\bbs-3.20-bioc\R\bin\R.exe CMD INSTALL --build --library=gDRcore.buildbin-libdir gDRcore_1.3.2.tar.gz StartedAt: 2024-06-10 13:41:12 -0400 (Mon, 10 Jun 2024) EndedAt: 2024-06-10 13:42:15 -0400 (Mon, 10 Jun 2024) EllapsedTime: 63.2 seconds RetCode: 0 Status: OK PackageFile: gDRcore_1.3.2.zip PackageFileSize: 1.335 MiB