Package: gDRcore Version: 1.4.0 Command: rm -rf gDRcore.buildbin-libdir && mkdir gDRcore.buildbin-libdir && F:\biocbuild\bbs-3.20-bioc\R\bin\R.exe CMD INSTALL --build --library=gDRcore.buildbin-libdir gDRcore_1.4.0.tar.gz StartedAt: 2025-02-04 08:32:19 -0500 (Tue, 04 Feb 2025) EndedAt: 2025-02-04 08:33:04 -0500 (Tue, 04 Feb 2025) EllapsedTime: 45.1 seconds RetCode: 0 Status: OK PackageFile: gDRcore_1.4.0.zip PackageFileSize: 1.346 MiB