Package: gDRcore Version: 1.4.0 Command: chmod a+r gDRcore -R && F:\biocbuild\bbs-3.20-bioc\R\bin\R.exe CMD build --keep-empty-dirs --no-resave-data gDRcore StartedAt: 2025-02-03 19:19:24 -0500 (Mon, 03 Feb 2025) EndedAt: 2025-02-03 19:20:31 -0500 (Mon, 03 Feb 2025) EllapsedTime: 67.7 seconds RetCode: 0 Status: OK PackageFile: gDRcore_1.4.0.tar.gz PackageFileSize: 1.09 MiB