Package: gDRcore Version: 1.4.0 Command: F:\biocbuild\bbs-3.20-bioc\R\bin\R.exe CMD INSTALL gDRcore StartedAt: 2025-02-03 16:30:59 -0500 (Mon, 03 Feb 2025) EndedAt: 2025-02-03 16:31:42 -0500 (Mon, 03 Feb 2025) EllapsedTime: 43.3 seconds RetCode: 0 Status: OK