Package: gDRstyle Version: 1.4.0 Command: rm -rf gDRstyle.buildbin-libdir && mkdir gDRstyle.buildbin-libdir && /Users/biocbuild/BBS/utils/build-universal.sh gDRstyle_1.4.0.tar.gz /Library/Frameworks/R.framework/Resources/bin/R gDRstyle.buildbin-libdir StartedAt: 2025-02-01 15:01:02 -0500 (Sat, 01 Feb 2025) EndedAt: 2025-02-01 15:01:07 -0500 (Sat, 01 Feb 2025) EllapsedTime: 5.7 seconds RetCode: 0 Status: OK PackageFile: gDRstyle_1.4.0.tgz PackageFileSize: 656.6 KiB