Package: gDRstyle Version: 1.4.0 Command: /Library/Frameworks/R.framework/Resources/bin/R CMD build --keep-empty-dirs --no-resave-data gDRstyle StartedAt: 2025-02-04 00:01:05 -0500 (Tue, 04 Feb 2025) EndedAt: 2025-02-04 00:01:16 -0500 (Tue, 04 Feb 2025) EllapsedTime: 10.7 seconds RetCode: 0 Status: OK PackageFile: gDRstyle_1.4.0.tar.gz PackageFileSize: 598 KiB