Package: gDRstyle Version: 1.4.0 Command: /Library/Frameworks/R.framework/Resources/bin/R CMD check --install=check:gDRstyle.install-out.txt --library=/Library/Frameworks/R.framework/Resources/library --no-vignettes --timings gDRstyle_1.4.0.tar.gz StartedAt: 2025-02-04 20:27:34 -0500 (Tue, 04 Feb 2025) EndedAt: 2025-02-04 20:28:54 -0500 (Tue, 04 Feb 2025) EllapsedTime: 80.0 seconds RetCode: 0 Status: OK CheckDir: gDRstyle.Rcheck Warnings: 0