Package: gDRstyle Version: 1.4.0 Command: /Library/Frameworks/R.framework/Resources/bin/R CMD INSTALL gDRstyle StartedAt: 2025-02-03 16:16:44 -0500 (Mon, 03 Feb 2025) EndedAt: 2025-02-03 16:16:49 -0500 (Mon, 03 Feb 2025) EllapsedTime: 4.6 seconds RetCode: 0 Status: OK