Package: gDRstyle Version: 1.4.0 Command: /Library/Frameworks/R.framework/Resources/bin/R CMD build --keep-empty-dirs --no-resave-data gDRstyle StartedAt: 2025-02-03 19:04:46 -0500 (Mon, 03 Feb 2025) EndedAt: 2025-02-03 19:05:05 -0500 (Mon, 03 Feb 2025) EllapsedTime: 19.0 seconds RetCode: 0 Status: OK PackageFile: gDRstyle_1.4.0.tar.gz PackageFileSize: 598 KiB