Package: gDRstyle Version: 1.4.0 Command: /Library/Frameworks/R.framework/Resources/bin/R CMD INSTALL gDRstyle StartedAt: 2025-02-03 15:52:52 -0500 (Mon, 03 Feb 2025) EndedAt: 2025-02-03 15:53:00 -0500 (Mon, 03 Feb 2025) EllapsedTime: 8.9 seconds RetCode: 0 Status: OK