Package: gDRstyle Version: 1.4.0 Command: /home/biocbuild/bbs-3.20-bioc/R/bin/R CMD check --install=check:gDRstyle.install-out.txt --library=/home/biocbuild/bbs-3.20-bioc/R/site-library --timings gDRstyle_1.4.0.tar.gz StartedAt: 2025-02-03 22:33:32 -0500 (Mon, 03 Feb 2025) EndedAt: 2025-02-03 22:34:31 -0500 (Mon, 03 Feb 2025) EllapsedTime: 59.0 seconds RetCode: 0 Status: OK CheckDir: gDRstyle.Rcheck Warnings: 0