Package: gDRstyle Version: 1.4.0 Command: /home/biocbuild/R/R/bin/R CMD build --keep-empty-dirs --no-resave-data gDRstyle StartedAt: 2025-02-03 23:45:22 -0000 (Mon, 03 Feb 2025) EndedAt: 2025-02-03 23:45:31 -0000 (Mon, 03 Feb 2025) EllapsedTime: 9.0 seconds RetCode: 0 Status: OK PackageFile: gDRstyle_1.4.0.tar.gz PackageFileSize: 730 KiB