Package: gDRstyle Version: 1.4.0 Command: /home/biocbuild/R/R/bin/R CMD check --install=check:gDRstyle.install-out.txt --library=/home/biocbuild/R/R/site-library --no-vignettes --timings gDRstyle_1.4.0.tar.gz StartedAt: 2025-02-04 07:10:57 -0000 (Tue, 04 Feb 2025) EndedAt: 2025-02-04 07:12:07 -0000 (Tue, 04 Feb 2025) EllapsedTime: 70.0 seconds RetCode: 0 Status: OK CheckDir: gDRstyle.Rcheck Warnings: 0