Package: gDRstyle Version: 1.4.0 Command: /home/biocbuild/R/R/bin/R CMD INSTALL gDRstyle StartedAt: 2025-01-30 20:33:12 -0000 (Thu, 30 Jan 2025) EndedAt: 2025-01-30 20:33:19 -0000 (Thu, 30 Jan 2025) EllapsedTime: 6.5 seconds RetCode: 0 Status: OK