Package: gDRutils Version: 1.4.0 Command: /Library/Frameworks/R.framework/Resources/bin/R CMD build --keep-empty-dirs --no-resave-data gDRutils StartedAt: 2025-01-31 00:04:59 -0500 (Fri, 31 Jan 2025) EndedAt: 2025-01-31 00:05:41 -0500 (Fri, 31 Jan 2025) EllapsedTime: 42.4 seconds RetCode: 0 Status: OK PackageFile: gDRutils_1.4.0.tar.gz PackageFileSize: 322.5 KiB