Package: gDRutils Version: 1.4.0 Command: /Library/Frameworks/R.framework/Resources/bin/R CMD INSTALL gDRutils StartedAt: 2025-01-30 17:24:43 -0500 (Thu, 30 Jan 2025) EndedAt: 2025-01-30 17:25:10 -0500 (Thu, 30 Jan 2025) EllapsedTime: 27.0 seconds RetCode: 0 Status: OK